BEGIN:VCALENDAR
VERSION:2.0
METHOD:PUBLISH
PRODID:-//Accessible Web Design//My Calendar//http://www.joedolson.com//v2.3.32//EN
BEGIN:VEVENT
UID:22-15
LOCATION:     
SUMMARY:Income Tax Deadline
DTSTAMP:20171031T000000
ORGANIZER;CN=doyle admin:MAILTO:corey@graphedia.ie
DTSTART:20171031T000000
DTEND:20171101T000000
URL;VALUE=URI:http://www.doyleaccountants.ie
DESCRIPTION:Pay Balance of liability and Preliminary Tax due.
CATEGORIES:General
END:VEVENT
END:VCALENDAR